BEGIN:VCALENDAR
VERSION:2.0
PRODID:-//Centre zen du Perche - Daishugyoji - ECPv6.3.5//NONSGML v1.0//EN
CALSCALE:GREGORIAN
METHOD:PUBLISH
X-ORIGINAL-URL:https://zennormandie.fr
X-WR-CALDESC:évènements pour Centre zen du Perche - Daishugyoji
REFRESH-INTERVAL;VALUE=DURATION:PT1H
X-Robots-Tag:noindex
X-PUBLISHED-TTL:PT1H
BEGIN:VTIMEZONE
TZID:Europe/Paris
BEGIN:DAYLIGHT
TZOFFSETFROM:+0100
TZOFFSETTO:+0200
TZNAME:CEST
DTSTART:20200329T010000
END:DAYLIGHT
BEGIN:STANDARD
TZOFFSETFROM:+0200
TZOFFSETTO:+0100
TZNAME:CET
DTSTART:20201025T010000
END:STANDARD
BEGIN:DAYLIGHT
TZOFFSETFROM:+0100
TZOFFSETTO:+0200
TZNAME:CEST
DTSTART:20210328T010000
END:DAYLIGHT
BEGIN:STANDARD
TZOFFSETFROM:+0200
TZOFFSETTO:+0100
TZNAME:CET
DTSTART:20211031T010000
END:STANDARD
BEGIN:DAYLIGHT
TZOFFSETFROM:+0100
TZOFFSETTO:+0200
TZNAME:CEST
DTSTART:20220327T010000
END:DAYLIGHT
BEGIN:STANDARD
TZOFFSETFROM:+0200
TZOFFSETTO:+0100
TZNAME:CET
DTSTART:20221030T010000
END:STANDARD
BEGIN:DAYLIGHT
TZOFFSETFROM:+0100
TZOFFSETTO:+0200
TZNAME:CEST
DTSTART:20230326T010000
END:DAYLIGHT
BEGIN:STANDARD
TZOFFSETFROM:+0200
TZOFFSETTO:+0100
TZNAME:CET
DTSTART:20231029T010000
END:STANDARD
BEGIN:DAYLIGHT
TZOFFSETFROM:+0100
TZOFFSETTO:+0200
TZNAME:CEST
DTSTART:20240331T010000
END:DAYLIGHT
BEGIN:STANDARD
TZOFFSETFROM:+0200
TZOFFSETTO:+0100
TZNAME:CET
DTSTART:20241027T010000
END:STANDARD
END:VTIMEZONE
BEGIN:VEVENT
DTSTART;VALUE=DATE:20240420
DTEND;VALUE=DATE:20240422
DTSTAMP:20260423T103459
CREATED:20240124T102745Z
LAST-MODIFIED:20240124T102745Z
UID:3020-1713571200-1713743999@zennormandie.fr
SUMMARY:Week-end zazen et samu 20 et 21 avril 2024 avec Raphaël Doko Triet
DESCRIPTION:Week-end zazen et samu 20 et 21 avril 2024 avec Raphaël Doko Triet \n 
URL:https://zennormandie.fr/event/week-end-zazen-et-samu-20-et-21-avril-2024-avec-raphael-doko-triet/
END:VEVENT
BEGIN:VEVENT
DTSTART;VALUE=DATE:20240323
DTEND;VALUE=DATE:20240325
DTSTAMP:20260423T103459
CREATED:20240124T102447Z
LAST-MODIFIED:20240124T102447Z
UID:3018-1711152000-1711324799@zennormandie.fr
SUMMARY:Week-end zazen-samu 23 et 24 mars 2024 avec Marie Thérèse zanshin Faur
DESCRIPTION:Week-end zazen-samu 23 et 24 mars 2024 avec Marie Thérèse zanshin Faur
URL:https://zennormandie.fr/event/week-end-zazen-samu-23-et-24-mars-2024-avec-marie-therese-zanshin-faur/
END:VEVENT
BEGIN:VEVENT
DTSTART;TZID=Europe/Paris:20231209T080000
DTEND;TZID=Europe/Paris:20231210T190000
DTSTAMP:20260423T103459
CREATED:20231114T130153Z
LAST-MODIFIED:20231114T130153Z
UID:2990-1702108800-1702234800@zennormandie.fr
SUMMARY:Journées Samu et Zazen les 09 et 10 décembre 2023
DESCRIPTION:Flyer infos PDF﻿
URL:https://zennormandie.fr/event/journees-samu-et-zazen-les-09-et-10-decembre-2023/
LOCATION:Centre zen du perche – Daishugyoji\, Le Bas Gage\, Saint-Jouin-de-Blavou\, 61630\, France
END:VEVENT
BEGIN:VEVENT
DTSTART;VALUE=DATE:20220313
DTEND;VALUE=DATE:20220314
DTSTAMP:20260423T103459
CREATED:20210917T074426Z
LAST-MODIFIED:20211222T171735Z
UID:2730-1647129600-1647215999@zennormandie.fr
SUMMARY:Matinée de zazen « spécial débutants »
DESCRIPTION:Matinée de zazen « spécial débutants »\nAu Centre zen du Perche – Daishugyoji\ndirigée par Hugues Naas\n																					 \nCette matinée centrée sur la découverte de la méditation\, ouverte à tous\, se déroulera comme suit : \n• 8 h 30 : accueil et thé/café de bienvenue• 9 heures : initiation à la posture et au comportement dans le dojo• 10 h 30 : zazen\, suivi d’un moment de partage \nCoût de la journée : 15 euros. Les pratiquants non débutants sont bien sûr les bienvenus ! \nPrévoyez une tenue confortable. N’hésitez pas à nous contacter par courriel ou par téléphone pour toutedemande de renseignement. \nLe Centre se trouve en Normandie\, entre Bellême et Mortagne-au-Perche\, à 170 kilomètres à l’ouest deParis par la nationale 12 (pas de péage) et à deux heures trente de route de la Gendronnière. \n  \nCentre zen du Perche – Daishugyoji \nLe Bas Gage 61360 Saint-Jouin-de-Blavou \nTél. : 09 73 01 17 01 \nCourriel : daishugyo@gmail.com \nhttps://zennormandie.fr/
URL:https://zennormandie.fr/event/matinee-de-zazen-special-debutants/
LOCATION:Centre zen du perche – Daishugyoji\, Le Bas Gage\, Saint-Jouin-de-Blavou\, 61630\, France
END:VEVENT
BEGIN:VEVENT
DTSTART;VALUE=DATE:20220220
DTEND;VALUE=DATE:20220221
DTSTAMP:20260423T103459
CREATED:20211222T204302Z
LAST-MODIFIED:20211222T204851Z
UID:2908-1645315200-1645401599@zennormandie.fr
SUMMARY:Journée zazen le 20 février 2022
DESCRIPTION:Journée zazen le 20 février 2022\ndirigée par Hugues Naas Au Centre zen du Perche – Daishugyoji \n																					 \nLe Centre se trouve en Normandie\, à 170 kilomètres à l’ouest de Paris par la nationale 12 (pas de péage) et à deux heures trente de route de la Gendronnière. Il est également possible de venir vous chercher à la gare (coût de la navette 5 euros). \n  \nInscription : 30 euros. \nHeure de début 7h30. \n  \nIl est possible d’arriver la veille\, dans ce cas merci d’apporter des draps ou un duvet\, ainsi qu’une taie d’oreiller.  \n  \nPour les repas\, amenez trois bols gigognes emballés dans un tissu\, ainsi que deux serviettes\, une grande cuillère et deux baguettes. Pour les zazens\, privilégiez une tenue souple et sombre. N’hésitez pas à nous contacter par courriel ou par téléphone pour toute demande de renseignement\, ou pour nous signaler quelque problème que ce soit (traitement médical\, soucis d’allergies…). \n  \nCentre zen du Perche – Daishugyoji \nLe Bas Gage 61360 Saint-Jouin-de-Blavou \nTél. : 09 73 01 17 01 \nCourriel : daishugyo@gmail.com \nhttps://zennormandie.fr/
URL:https://zennormandie.fr/event/journee-zazen-le-20-fevrier-2022/
END:VEVENT
BEGIN:VEVENT
DTSTART;VALUE=DATE:20220130
DTEND;VALUE=DATE:20220131
DTSTAMP:20260423T103459
CREATED:20210917T075801Z
LAST-MODIFIED:20211222T205448Z
UID:2747-1643500800-1643587199@zennormandie.fr
SUMMARY:Matinée de découverte du zazen
DESCRIPTION:Matinée de zazen « spécial débutants »\nAu Centre zen du Perche – Daishugyoji\ndirigée par Hugues Naas\n\n																					 \nCette matinée centrée sur la découverte de la méditation\, ouverte à tous\, se déroulera comme suit : \n  \n\n 8 h 30 : accueil et thé/café de bienvenue\n 9 heures : initiation à la posture et au comportement dans le dojo\n 10 h 30 : zazen\, suivi d’un moment de partage \n\nCoût de la journée : 15 euros. Les pratiquants non débutants sont bien sûr les bienvenus ! \n  \nPrévoyez une tenue confortable. N’hésitez pas à nous contacter par courriel ou par téléphone pour toute demande de renseignement. \n  \nLe Centre se trouve en Normandie\, entre Bellême et Mortagne-au-Perche\, à 170 kilomètres à l’ouest de Paris par la nationale 12 (pas de péage) et à deux heures trente de route de la Gendronnière. \n  \nCentre zen du Perche – Daishugyoji \nLe Bas Gage 61360 Saint-Jouin-de-Blavou \nTél. : 09 73 01 17 01 \n  \nCourriel : daishugyo@gmail.com \nhttps://zennormandie.fr/ 
URL:https://zennormandie.fr/event/matinee-de-decouverte-du-zazen/
LOCATION:Centre zen du perche – Daishugyoji\, Le Bas Gage\, Saint-Jouin-de-Blavou\, 61630\, France
END:VEVENT
BEGIN:VEVENT
DTSTART;VALUE=DATE:20210807
DTEND;VALUE=DATE:20210816
DTSTAMP:20260423T103459
CREATED:20210519T064707Z
LAST-MODIFIED:20210519T065259Z
UID:2709-1628294400-1629071999@zennormandie.fr
SUMMARY:Camp d'été du 7 au 15 août 2021 au Centre zen du Perche dirigé par Hugues Naas
DESCRIPTION:Camp d’été du 7 au 15 août 2021 au Centre zen du Perche dirigé par Hugues Naas\nL’occasion de découvrir ou d’approfondir la pratique de la méditation zen (zazen) pendant l’été ! \nLe Centre comporte plusieurs bâtiments et est largement ouvert sur des jardins. Il est donc adapté à la situation sanitaire\, et les consignes en vigueur seront respectées. Les personnes qui le souhaitent sont invitées à planter la tente ! \nProgramme\nCette retraite est ouverte à tous. Des moines et nonnes expérimentés seront disponibles pour répondre aux questions des débutants. \nLa retraite se déroule en deux parties (il est possible de n’en faire qu’une) : \n— du samedi 7 au mercredi 11 août\, préparation : journées avec un zazen le matin et un zazen le soir ; enseignements ; menus travaux en extérieur ; repas collectifs  \n— jeudi 12 août : repos ; départs et arrivées \n— du vendredi 13 au dimanche 15 août : sesshin (période intensive de zazen) \nL’arrivée se fait le vendredi 6 dans l’après-midi (repas à 20 heures)\, le départ le dimanche 15 dans l’après-midi. \nInformations pratiques\nTarifs : 15 euros par jour de préparation\, 30 euros par jour de sesshin (180 euros les neuf jours). Ce prix inclut les zazens\, les enseignements\, l’hébergement et les repas. \nPour participer aux activités du Centre zen du Perche\, il est obligatoire d’être membre (la cotisation est de 15 euros). Pour les zazens\, privilégiez une tenue souple et sombre. Pour les repas\, amenez trois bols gigognes emballés dans un tissu\, ainsi que deux serviettes\, une grande cuillère et deux baguettes. Merci d’apporter des draps ou un duvet\, ainsi qu’une taie d’oreiller. Prévoyez également des vêtements pour du travail en extérieur. \nSi vous souhaitez que l’on vienne vous chercher à la gare de Nogent-le-Rotrou\, prévenez le Centre (7 euros).
URL:https://zennormandie.fr/event/camp-dete-du-7-au-15-aout-2021-au-centre-zen-du-perche-dirige-par-hugues-naas/
LOCATION:Centre zen du perche – Daishugyoji\, Le Bas Gage\, Saint-Jouin-de-Blavou\, 61630\, France
END:VEVENT
BEGIN:VEVENT
DTSTART;VALUE=DATE:20210511
DTEND;VALUE=DATE:20210517
DTSTAMP:20260423T103459
CREATED:20210423T075128Z
LAST-MODIFIED:20210423T080728Z
UID:2690-1620691200-1621209599@zennormandie.fr
SUMMARY:Six jours de pratique au Centre zen du Perche – Daishugyoji
DESCRIPTION:Six jours de pratique au Centre zen du Perche – Daishugyoji\nÀ deux heures de route de Paris et de la Gendronnière\, le Centre zen du Perche rouvre ses portes à l’occasion de l’Ascension. \nDans le respect des règles sanitaires\, vous pouvez venir pratiquer zazen et participer à l’embellissement du lieu en faisant samu (l’activité au service de la collectivité). Il sera également possible de coudre le rakusu ou le zagu sous la direction de Jérôme Frère. \nPour profiter des belles journées de la campagne normande\, le samu se fera en extérieur (espaces verts\, peinture d’huisseries\, enduits…). \nInformations pratiques  \nDu 11 au 14 mai\, samu avec zazen matin et soir (ou bien\, du 12 au 14 : couture ; vous pouvez bien sûr commencer par un jour de samu le 11) \nLes 15 et 16 mai\, sesshin \nQuatre jours de samu : 60 euros \nTrois jours de couture : 80 euros (nous contacter pour le kit rakusu) \nSesshin : 60 euros \nHébergement\, nourriture et enseignements sont compris dans ces tarifs. \nInscrivez-vous simplement par courriel Ici \nPour participer aux activités du Centre zen du Perche\, il est nécessaire d’être membre. Le montant de la cotisation est de 15 euros par an. \nL’arrivée se fait le lundi 10 mai en fin d’après-midi\, le repas étant servi à 20 heures. Le départ a lieu le dimanche 16 après le repas du midi. \nMerci d’apporter des draps ou un duvet\, ainsi qu’une taie d’oreiller. Prévoyez des vêtements pour des activités en extérieur. Pour les repas\, amenez trois bols gigognes emballés dans un tissu\, ainsi que deux serviettes\, une grande cuillère et deux baguettes. Pour les zazens\, privilégiez une tenue souple et sombre. \nSi vous souhaitez que l’on vienne vous chercher à la gare de Nogent-le-Rotrou (à 30 km)\, prévenez le Centre par courriel. Cette navette coûte 7 euros\, à diviser entre les passagers.
URL:https://zennormandie.fr/event/six-jours-de-pratique-au-centre-zen-du-perche-daishugyoji/
END:VEVENT
BEGIN:VEVENT
DTSTART;VALUE=DATE:20201220
DTEND;VALUE=DATE:20201221
DTSTAMP:20260423T103459
CREATED:20200921T071817Z
LAST-MODIFIED:20200921T071930Z
UID:2421-1608422400-1608508799@zennormandie.fr
SUMMARY:Journée de zazen du 20 décembre « spécial débutants »
DESCRIPTION:Journée de zazen pour débutants (et autres) le 20 décembre à Daishugyoji dirigée par Hugues Yusen Naas Les infos : 2019.11 Journée débutants
URL:https://zennormandie.fr/event/journee-de-zazen-du-20-decembre-special-debutants/
LOCATION:Centre zen du perche – Daishugyoji\, Le Bas Gage\, Saint-Jouin-de-Blavou\, 61630\, France
END:VEVENT
BEGIN:VEVENT
DTSTART;VALUE=DATE:20201115
DTEND;VALUE=DATE:20201116
DTSTAMP:20260423T103459
CREATED:20200921T071627Z
LAST-MODIFIED:20200921T071627Z
UID:2419-1605398400-1605484799@zennormandie.fr
SUMMARY:Journée de zazen du 15 Novembre « spécial débutants »
DESCRIPTION:Journée de zazen pour débutants (et autres) le 15 novembre à Daishugyoji dirigée par Hugues Yusen Naas Les infos : 2019.11 Journée débutants
URL:https://zennormandie.fr/event/journee-de-zazen-du-15-novembre-special-debutants/
LOCATION:Centre zen du perche – Daishugyoji\, Le Bas Gage\, Saint-Jouin-de-Blavou\, 61630\, France
END:VEVENT
BEGIN:VEVENT
DTSTART;VALUE=DATE:20201018
DTEND;VALUE=DATE:20201019
DTSTAMP:20260423T103459
CREATED:20200921T071200Z
LAST-MODIFIED:20200921T071200Z
UID:2417-1602979200-1603065599@zennormandie.fr
SUMMARY:Journée de zazen du 18 Octobre « spécial débutants »
DESCRIPTION:Journée de zazen pour débutants (et autres) le 17 novembre à Daishugyoji dirigée par Hugues Yusen Naas \nLes infos : 2019.11 Journée débutants
URL:https://zennormandie.fr/event/journee-de-zazen-du-18-octobre-special-debutants/
LOCATION:Centre zen du perche – Daishugyoji\, Le Bas Gage\, Saint-Jouin-de-Blavou\, 61630\, France
END:VEVENT
BEGIN:VEVENT
DTSTART;VALUE=DATE:20200926
DTEND;VALUE=DATE:20201002
DTSTAMP:20260423T103459
CREATED:20200921T064954Z
LAST-MODIFIED:20200921T065203Z
UID:2403-1601078400-1601596799@zennormandie.fr
SUMMARY:Semaine samu du 27 septembre\, journée de zazen le 1er Octobre
DESCRIPTION:Pour participer aux activités du Centre zen du Perche\, il est obligatoire d’être membre. Le montant de la cotisation est de 15 euros par an.\nL’arrivée se fait le 29 septembre\, le repas étant servi à 20 heures. Merci d’apporter deux draps ou un duvet\, ainsi qu’une taie d’oreiller. Prévoyez des vêtements pour du travail en extérieur. Pour les repas\, amenez trois bols gigognes emballés dans un tissu\, ainsi que deux serviettes\, une grande cuillère et deux baguettes. Pour les zazens\, privilégiez une tenue souple et sombre. \nSi vous souhaitez que l’on vienne vous chercher à la gare de Nogent-le-Rotrou\, prévenez le Centre. Le transport coûte 8 euros\, à diviser entre les passagers. \nLe Centre se trouve en Normandie\, entre Bellême et Mortagne\, à 170 kilomètres à l’ouest de Paris par la nationale 12 (pas de péage) et à deux heures trente de route de la Gendronnière
URL:https://zennormandie.fr/event/semaine-samu-journee-de-zazen-le-1er-octobre/
LOCATION:Centre zen du perche – Daishugyoji\, Le Bas Gage\, Saint-Jouin-de-Blavou\, 61630\, France
CATEGORIES:activité perche
END:VEVENT
END:VCALENDAR